BEGIN:VCALENDAR
VERSION:2.0
PRODID:-//Plone.org//NONSGML plone.app.event//EN
X-WR-TIMEZONE:Europe/Madrid
BEGIN:VEVENT
SUMMARY:Taller de dibuix i pintura
DTSTART;TZID=Europe/Madrid;VALUE=DATE-TIME:20100917T000000
DTEND;TZID=Europe/Madrid;VALUE=DATE-TIME:20100917T010000
DTSTAMP;VALUE=DATE-TIME:20260424T230033Z
UID:fba4fb498cacf3c5801ffaa0afacd00c
CREATED;VALUE=DATE-TIME:20100917T000000Z
LOCATION:Vil·la Flora, centre cívic i cultural
DESCRIPTION:curs 2010 - 2011
URL:https://www.canetdemar.cat/document.php?id=6748
END:VEVENT
END:VCALENDAR