BEGIN:VCALENDAR
VERSION:2.0
PRODID:-//Plone.org//NONSGML plone.app.event//EN
X-WR-TIMEZONE:Europe/Madrid
BEGIN:VEVENT
SUMMARY:Inscripcions als cursos de la temporada 2010 - 2011
DTSTART;TZID=Europe/Madrid;VALUE=DATE-TIME:20100901T000000
DTEND;TZID=Europe/Madrid;VALUE=DATE-TIME:20100901T010000
DTSTAMP;VALUE=DATE-TIME:20260423T151748Z
UID:fb2e4f97669b5d987e4011716844a5ab
CREATED;VALUE=DATE-TIME:20100901T000000Z
CATEGORIES:Cursos
LOCATION:Plaça Manén s/n
ORGANIZER:
Sàlvia

DESCRIPTION:Sàlvia, associació de dones
URL:https://www.canetdemar.cat/document.php?id=6713
END:VEVENT
END:VCALENDAR