BEGIN:VCALENDAR
VERSION:2.0
PRODID:-//Plone.org//NONSGML plone.app.event//EN
X-WR-TIMEZONE:Europe/Madrid
BEGIN:VEVENT
SUMMARY:Exposició fotogràfica: Dracs i colors, Maresme modernista
DTSTART;TZID=Europe/Madrid;VALUE=DATE-TIME:20100918T190000
DTEND;TZID=Europe/Madrid;VALUE=DATE-TIME:20100918T200000
DTSTAMP;VALUE=DATE-TIME:20260423T114608Z
UID:68e0ad86703e7375b9d7fbd1a822992a
CREATED;VALUE=DATE-TIME:20100918T000000Z
LOCATION:Sala Municipal d'exposicions, plaça dels Americanos, s/n
COMMENT:Durada: del 18 al 22 de setembre
DESCRIPTION:
3a Fira Mercat Modernista

URL:https://www.canetdemar.cat/document.php?id=6708
END:VEVENT
END:VCALENDAR