BEGIN:VCALENDAR
VERSION:2.0
PRODID:-//Plone.org//NONSGML plone.app.event//EN
X-WR-TIMEZONE:Europe/Madrid
BEGIN:VEVENT
SUMMARY:Taller de manipulació d'aliments
DTSTART;TZID=Europe/Madrid;VALUE=DATE-TIME:20101001T090000
DTEND;TZID=Europe/Madrid;VALUE=DATE-TIME:20101001T100000
DTSTAMP;VALUE=DATE-TIME:20260421T210309Z
UID:67e52f72c291af5bfa685c2c0f6798a2
CREATED;VALUE=DATE-TIME:20101001T000000Z
LOCATION:Centre Cívic i Cultural Vil·la Flora, riera Gavarra, s/n
ORGANIZER:Àrea de Promoció Econòmica
COMMENT:Preu: 20 euros
Durada: de 09.00 a 13.00 hores
URL:https://www.canetdemar.cat/document.php?id=6697
END:VEVENT
END:VCALENDAR