BEGIN:VCALENDAR
VERSION:2.0
PRODID:-//Plone.org//NONSGML plone.app.event//EN
X-WR-TIMEZONE:Europe/Madrid
BEGIN:VEVENT
SUMMARY:14ª Gran Nit de la Sardana
DTSTART;TZID=Europe/Madrid;VALUE=DATE-TIME:20100730T203000
DTEND;TZID=Europe/Madrid;VALUE=DATE-TIME:20100730T213000
DTSTAMP;VALUE=DATE-TIME:20260423T132743Z
UID:cfca5a35442a3de0b00053ad85c706fe
CREATED;VALUE=DATE-TIME:20100730T000000Z
CATEGORIES:Dansa,Festa,Música
LOCATION:Plaça de la Llenya
ORGANIZER:Amics de la Sardana de Canet de Mar
COMMENT:Preu: Gratuït
Durada: dissabte, 30 i diumenge, 31 de juliol
URL:https://www.canetdemar.cat/document.php?id=6696
END:VEVENT
END:VCALENDAR