BEGIN:VCALENDAR
VERSION:2.0
PRODID:-//Plone.org//NONSGML plone.app.event//EN
X-WR-TIMEZONE:Europe/Madrid
BEGIN:VEVENT
SUMMARY:Signatura del conveni de coedició de Vilaweb Canet
DTSTART;TZID=Europe/Madrid;VALUE=DATE-TIME:20031229T200000
DTEND;TZID=Europe/Madrid;VALUE=DATE-TIME:20031229T210000
DTSTAMP;VALUE=DATE-TIME:20260423T214556Z
UID:a739a6fefc6e51f9a59fe8fde5a5d78b
CREATED;VALUE=DATE-TIME:20031229T000000Z
URL:https://www.canetdemar.cat/document.php?id=667
END:VEVENT
END:VCALENDAR