BEGIN:VCALENDAR
VERSION:2.0
PRODID:-//Plone.org//NONSGML plone.app.event//EN
X-WR-TIMEZONE:Europe/Madrid
BEGIN:VEVENT
SUMMARY:Ruta modernista: centre històric i Casa museu
DTSTART;TZID=Europe/Madrid;VALUE=DATE-TIME:20100904T110000
DTEND;TZID=Europe/Madrid;VALUE=DATE-TIME:20100904T120000
DTSTAMP;VALUE=DATE-TIME:20260424T123147Z
UID:6cbf537756a6a4849de4208d16df0118
CREATED;VALUE=DATE-TIME:20100904T000000Z
LOCATION:Casa museu Lluís Domènech i Montaner
ORGANIZER:Casa museu Lluís Domènech i Montaner
COMMENT:Preu: 5,50 euros. Jubilats: 4 euros. No cal inscripció prèvia
URL:https://www.canetdemar.cat/document.php?id=6666
END:VEVENT
END:VCALENDAR