BEGIN:VCALENDAR
VERSION:2.0
PRODID:-//Plone.org//NONSGML plone.app.event//EN
X-WR-TIMEZONE:Europe/Madrid
BEGIN:VEVENT
SUMMARY:Teatre: Fugadas
DTSTART;TZID=Europe/Madrid;VALUE=DATE-TIME:20100922T190000
DTEND;TZID=Europe/Madrid;VALUE=DATE-TIME:20100922T200000
DTSTAMP;VALUE=DATE-TIME:20260424T094434Z
UID:2eb79409ad42dba5f13e0b7b45a68d68
CREATED;VALUE=DATE-TIME:20100922T000000Z
LOCATION:parada bus Comediants
ORGANIZER:Àrea de Cultura
COMMENT:Preu: 23 euros
URL:https://www.canetdemar.cat/document.php?id=6652
END:VEVENT
END:VCALENDAR