BEGIN:VCALENDAR
VERSION:2.0
PRODID:-//Plone.org//NONSGML plone.app.event//EN
X-WR-TIMEZONE:Europe/Madrid
BEGIN:VEVENT
SUMMARY:Ens visita El bus del reciclatge
DTSTART;TZID=Europe/Madrid;VALUE=DATE-TIME:20100730T170000
DTEND;TZID=Europe/Madrid;VALUE=DATE-TIME:20100730T180000
DTSTAMP;VALUE=DATE-TIME:20260423T050633Z
UID:ed0f10a41e3d91b7f949884eab903b27
CREATED;VALUE=DATE-TIME:20100730T000000Z
COMMENT:Durada: Fins a les 22.00 hores
URL:https://www.canetdemar.cat/document.php?id=6646
END:VEVENT
END:VCALENDAR