BEGIN:VCALENDAR
VERSION:2.0
PRODID:-//Plone.org//NONSGML plone.app.event//EN
X-WR-TIMEZONE:Europe/Madrid
BEGIN:VEVENT
SUMMARY:Qral-BUS: La Salseta
DTSTART;TZID=Europe/Madrid;VALUE=DATE-TIME:20100814T000000
DTEND;TZID=Europe/Madrid;VALUE=DATE-TIME:20100814T010000
DTSTAMP;VALUE=DATE-TIME:20260422T111928Z
UID:5e66c3b06ce91234d9cd455c39275df7
CREATED;VALUE=DATE-TIME:20100814T000000Z
URL:https://www.canetdemar.cat/document.php?id=6623
END:VEVENT
END:VCALENDAR