BEGIN:VCALENDAR
VERSION:2.0
PRODID:-//Plone.org//NONSGML plone.app.event//EN
X-WR-TIMEZONE:Europe/Madrid
BEGIN:VEVENT
SUMMARY:VI Neteja del Fons Marí
DTSTART;TZID=Europe/Madrid;VALUE=DATE-TIME:20100711T100000
DTEND;TZID=Europe/Madrid;VALUE=DATE-TIME:20100711T110000
DTSTAMP;VALUE=DATE-TIME:20260422T220225Z
UID:d056d9e07647c72d4d7cc317e2de185a
CREATED;VALUE=DATE-TIME:20100711T000000Z
LOCATION:platja de Canet - davant la riera Sant Domènec
ORGANIZER:VAMMA (voluntaris de l'Alt Maresme)
URL:https://www.canetdemar.cat/document.php?id=6587
END:VEVENT
END:VCALENDAR