BEGIN:VCALENDAR
VERSION:2.0
PRODID:-//Plone.org//NONSGML plone.app.event//EN
X-WR-TIMEZONE:Europe/Madrid
BEGIN:VEVENT
SUMMARY:Aparador d'espectacles: Sobre Rodes
DTSTART;TZID=Europe/Madrid;VALUE=DATE-TIME:20100905T190000
DTEND;TZID=Europe/Madrid;VALUE=DATE-TIME:20100905T200000
DTSTAMP;VALUE=DATE-TIME:20260423T064513Z
UID:1a2f16bd9c5c2c0fb57668cf5f1146f9
CREATED;VALUE=DATE-TIME:20100905T000000Z
LOCATION:plaça Colomer
ORGANIZER:Aparador d'espectacles - ACPO i Àrea de Cultura
COMMENT:Preu: espectacle gratuït
URL:https://www.canetdemar.cat/document.php?id=6576
END:VEVENT
END:VCALENDAR