BEGIN:VCALENDAR
VERSION:2.0
PRODID:-//Plone.org//NONSGML plone.app.event//EN
X-WR-TIMEZONE:Europe/Madrid
BEGIN:VEVENT
SUMMARY:Ball a l´Esplai
DTSTART;TZID=Europe/Madrid;VALUE=DATE-TIME:20100620T180000
DTEND;TZID=Europe/Madrid;VALUE=DATE-TIME:20100620T190000
DTSTAMP;VALUE=DATE-TIME:20260423T050115Z
UID:1d733c8f8080bd42e0a9143d72b216e0
CREATED;VALUE=DATE-TIME:20100620T000000Z
LOCATION:Esplai de la gent gran. Carrer Vall, 24
ORGANIZER:Esplai de la gent gran
COMMENT:Preu: 2 euros
URL:https://www.canetdemar.cat/document.php?id=6464
END:VEVENT
END:VCALENDAR