BEGIN:VCALENDAR
VERSION:2.0
PRODID:-//Plone.org//NONSGML plone.app.event//EN
X-WR-TIMEZONE:Europe/Madrid
BEGIN:VEVENT
SUMMARY:Ball a l´Esplai
DTSTART;TZID=Europe/Madrid;VALUE=DATE-TIME:20100627T180000
DTEND;TZID=Europe/Madrid;VALUE=DATE-TIME:20100627T190000
DTSTAMP;VALUE=DATE-TIME:20260422T163710Z
UID:c3815f2524fbf8219472a457f1bb02bf
CREATED;VALUE=DATE-TIME:20100627T000000Z
LOCATION:Esplai de la gent gran. Carrer Vall, 24
ORGANIZER:Esplai de la gent gran
COMMENT:Preu: 2 euros
URL:https://www.canetdemar.cat/document.php?id=6462
END:VEVENT
END:VCALENDAR