BEGIN:VCALENDAR
VERSION:2.0
PRODID:-//Plone.org//NONSGML plone.app.event//EN
X-WR-TIMEZONE:Europe/Madrid
BEGIN:VEVENT
SUMMARY:Taller d'ornaments de la llar i pintura de roba
DTSTART;TZID=Europe/Madrid;VALUE=DATE-TIME:20031201T190000
DTEND;TZID=Europe/Madrid;VALUE=DATE-TIME:20031201T200000
DTSTAMP;VALUE=DATE-TIME:20260426T013046Z
UID:307c38b7f2a47b7fea38bb62fbe70cb7
CREATED;VALUE=DATE-TIME:20031201T000000Z
URL:https://www.canetdemar.cat/document.php?id=643
END:VEVENT
END:VCALENDAR