BEGIN:VCALENDAR
VERSION:2.0
PRODID:-//Plone.org//NONSGML plone.app.event//EN
X-WR-TIMEZONE:Europe/Madrid
BEGIN:VEVENT
SUMMARY:Presentació del llibre: El cos deshabitat
DTSTART;TZID=Europe/Madrid;VALUE=DATE-TIME:20100529T120000
DTEND;TZID=Europe/Madrid;VALUE=DATE-TIME:20100529T130000
DTSTAMP;VALUE=DATE-TIME:20260424T021517Z
UID:4b7446434627c052077603b711394539
CREATED;VALUE=DATE-TIME:20100529T000000Z
CATEGORIES:Literatura
LOCATION:Biblioteca P. Gual i Pujadas
URL:https://www.canetdemar.cat/document.php?id=6399
END:VEVENT
END:VCALENDAR