BEGIN:VCALENDAR
VERSION:2.0
PRODID:-//Plone.org//NONSGML plone.app.event//EN
X-WR-TIMEZONE:Europe/Madrid
BEGIN:VEVENT
SUMMARY:Jornada de treball: Actuació a l&OpenCurlyQuote;entorn del camí de  Sant Iscle pel  Salt del Rossí
DTSTART;TZID=Europe/Madrid;VALUE=DATE-TIME:20100516T090000
DTEND;TZID=Europe/Madrid;VALUE=DATE-TIME:20100516T100000
DTSTAMP;VALUE=DATE-TIME:20260419T234331Z
UID:05d5d7f97b9ac9465ddb1944575223ba
CREATED;VALUE=DATE-TIME:20100516T000000Z
LOCATION:Plaça 11 de Setembre
ORGANIZER:Fot-li castanya! &ndash; ACPO
URL:https://www.canetdemar.cat/document.php?id=6388
END:VEVENT
END:VCALENDAR