BEGIN:VCALENDAR
VERSION:2.0
PRODID:-//Plone.org//NONSGML plone.app.event//EN
X-WR-TIMEZONE:Europe/Madrid
BEGIN:VEVENT
SUMMARY:Final interclub de patinatge
DTSTART;TZID=Europe/Madrid;VALUE=DATE-TIME:20100502T090000
DTEND;TZID=Europe/Madrid;VALUE=DATE-TIME:20100502T100000
DTSTAMP;VALUE=DATE-TIME:20260421T113056Z
UID:5da31b670bc502f7fae1edce01b6ea61
CREATED;VALUE=DATE-TIME:20100502T000000Z
LOCATION:Pavelló municipal d'esports
ORGANIZER:Club de patinatge
COMMENT:Durada: de 9.00 a 13.30 hores i de 16.00 a 20.00 hores
URL:https://www.canetdemar.cat/document.php?id=6367
END:VEVENT
END:VCALENDAR