BEGIN:VCALENDAR
VERSION:2.0
PRODID:-//Plone.org//NONSGML plone.app.event//EN
X-WR-TIMEZONE:Europe/Madrid
BEGIN:VEVENT
SUMMARY:Mercat d´Intercanvi, venda de Segona mà i Col&bull;leccionisme i Trobada d´intercanvi de plaques de cava
DTSTART;TZID=Europe/Madrid;VALUE=DATE-TIME:20101017T100000
DTEND;TZID=Europe/Madrid;VALUE=DATE-TIME:20101017T110000
DTSTAMP;VALUE=DATE-TIME:20260421T141236Z
UID:9f66e64ca920f30be9fc204b8015f482
CREATED;VALUE=DATE-TIME:20101017T000000Z
LOCATION:riera Sant Domènec
ORGANIZER:Àrees de Medi Ambient i Promoció Econòmica
COMMENT:Durada: de 10.00 a 14.00 hores
URL:https://www.canetdemar.cat/document.php?id=6318
END:VEVENT
END:VCALENDAR