BEGIN:VCALENDAR
VERSION:2.0
PRODID:-//Plone.org//NONSGML plone.app.event//EN
X-WR-TIMEZONE:Europe/Madrid
BEGIN:VEVENT
SUMMARY:Torneig UNO
DTSTART;TZID=Europe/Madrid;VALUE=DATE-TIME:20100409T173000
DTEND;TZID=Europe/Madrid;VALUE=DATE-TIME:20100409T183000
DTSTAMP;VALUE=DATE-TIME:20260421T155207Z
UID:66287f2bf10a17d0df6c3b3fcc5106a6
CREATED;VALUE=DATE-TIME:20100409T000000Z
LOCATION:La Masoveria de Vil·la Flora
ORGANIZER:Àrea de Joventut
URL:https://www.canetdemar.cat/document.php?id=6307
END:VEVENT
END:VCALENDAR