BEGIN:VCALENDAR
VERSION:2.0
PRODID:-//Plone.org//NONSGML plone.app.event//EN
X-WR-TIMEZONE:Europe/Madrid
BEGIN:VEVENT
SUMMARY:Inscripcions Curs 2010-11 de l'Escola de Música de Canet de Mar
DTSTART;TZID=Europe/Madrid;VALUE=DATE-TIME:20100412T160000
DTEND;TZID=Europe/Madrid;VALUE=DATE-TIME:20100412T170000
DTSTAMP;VALUE=DATE-TIME:20260424T211702Z
UID:3fdf61be438ce2d9e968dc0c6caaf0a2
CREATED;VALUE=DATE-TIME:20100412T000000Z
ORGANIZER:Escola de Música de Canet de Mar
URL:https://www.canetdemar.cat/document.php?id=6282
END:VEVENT
END:VCALENDAR