BEGIN:VCALENDAR
VERSION:2.0
PRODID:-//Plone.org//NONSGML plone.app.event//EN
X-WR-TIMEZONE:Europe/Madrid
BEGIN:VEVENT
SUMMARY:Descoberta de l'entorn: Visita a l'espai agrícola de les Cinc Sènies
DTSTART;TZID=Europe/Madrid;VALUE=DATE-TIME:20031213T090019
DTEND;TZID=Europe/Madrid;VALUE=DATE-TIME:20031213T100019
DTSTAMP;VALUE=DATE-TIME:20260424T193136Z
UID:4c6842977ec4ffcefd10a665895be20d
CREATED;VALUE=DATE-TIME:20031213T000000Z
URL:https://www.canetdemar.cat/document.php?id=628
END:VEVENT
END:VCALENDAR