BEGIN:VCALENDAR
VERSION:2.0
PRODID:-//Plone.org//NONSGML plone.app.event//EN
X-WR-TIMEZONE:Europe/Madrid
BEGIN:VEVENT
SUMMARY:Ball a l´Esplai
DTSTART;TZID=Europe/Madrid;VALUE=DATE-TIME:20100418T180000
DTEND;TZID=Europe/Madrid;VALUE=DATE-TIME:20100418T190000
DTSTAMP;VALUE=DATE-TIME:20260421T091507Z
UID:8a615855b8294275284cdb7ad50bbebd
CREATED;VALUE=DATE-TIME:20100418T000000Z
LOCATION:Esplai de la gent gran
ORGANIZER:Esplai de la gent gran
COMMENT:Preu: gratuït
URL:https://www.canetdemar.cat/document.php?id=6273
END:VEVENT
END:VCALENDAR