BEGIN:VCALENDAR
VERSION:2.0
PRODID:-//Plone.org//NONSGML plone.app.event//EN
X-WR-TIMEZONE:Europe/Madrid
BEGIN:VEVENT
SUMMARY:El documental del mes: BURMA VJ  (Reporting from a closed country)
DTSTART;TZID=Europe/Madrid;VALUE=DATE-TIME:20100409T213000
DTEND;TZID=Europe/Madrid;VALUE=DATE-TIME:20100409T223000
DTSTAMP;VALUE=DATE-TIME:20260423T114154Z
UID:c82a46c5b179204d190a6fdf35a6d79d
CREATED;VALUE=DATE-TIME:20100409T000000Z
LOCATION:Escola de Teixits de Punt
ORGANIZER:Fòrum Odèon &ndash; ACPO
COMMENT:Preu: Entrada gratuïta
URL:https://www.canetdemar.cat/document.php?id=6263
END:VEVENT
END:VCALENDAR