BEGIN:VCALENDAR
VERSION:2.0
PRODID:-//Plone.org//NONSGML plone.app.event//EN
X-WR-TIMEZONE:Europe/Madrid
BEGIN:VEVENT
SUMMARY:Hora del conte
DTSTART;TZID=Europe/Madrid;VALUE=DATE-TIME:20100522T120000
DTEND;TZID=Europe/Madrid;VALUE=DATE-TIME:20100522T130000
DTSTAMP;VALUE=DATE-TIME:20260423T065201Z
UID:0e79d13212472415e393869bc7d3b7b4
CREATED;VALUE=DATE-TIME:20100522T000000Z
CATEGORIES:Infantils
LOCATION:Biblioteca P. Gual i Pujadas
ORGANIZER:Biblioteca P. Gual i Pujadas
DESCRIPTION:contes per a menuts
URL:https://www.canetdemar.cat/document.php?id=6257
END:VEVENT
END:VCALENDAR