BEGIN:VCALENDAR
VERSION:2.0
PRODID:-//Plone.org//NONSGML plone.app.event//EN
X-WR-TIMEZONE:Europe/Madrid
BEGIN:VEVENT
SUMMARY:Teatre familiar: Afina Serafina
DTSTART;TZID=Europe/Madrid;VALUE=DATE-TIME:20100418T180000
DTEND;TZID=Europe/Madrid;VALUE=DATE-TIME:20100418T190000
DTSTAMP;VALUE=DATE-TIME:20260425T222349Z
UID:1281ca259943f7032d81d7f1172c831f
CREATED;VALUE=DATE-TIME:20100418T000000Z
LOCATION:Envelat de Vil·la Flora
ORGANIZER:Aparador d'espectacles - ACPO
COMMENT:Preu: soci/a: 2,50 euros, no soci/a: 3,50 euros
URL:https://www.canetdemar.cat/document.php?id=6233
END:VEVENT
END:VCALENDAR