BEGIN:VCALENDAR
VERSION:2.0
PRODID:-//Plone.org//NONSGML plone.app.event//EN
X-WR-TIMEZONE:Europe/Madrid
BEGIN:VEVENT
SUMMARY:Ruta Modernista: centre històric i Casa museu
DTSTART;TZID=Europe/Madrid;VALUE=DATE-TIME:20100410T110000
DTEND;TZID=Europe/Madrid;VALUE=DATE-TIME:20100410T120000
DTSTAMP;VALUE=DATE-TIME:20260423T014129Z
UID:68154acff6bfeeadbb9e60a1bb7bf99c
CREATED;VALUE=DATE-TIME:20100410T000000Z
LOCATION:Casa museu Lluís Domènech i Montaner
ORGANIZER:Casa museu Lluís Domènech i Montaner
URL:https://www.canetdemar.cat/document.php?id=6229
END:VEVENT
END:VCALENDAR