BEGIN:VCALENDAR
VERSION:2.0
PRODID:-//Plone.org//NONSGML plone.app.event//EN
X-WR-TIMEZONE:Europe/Madrid
BEGIN:VEVENT
SUMMARY:Ball a l'Esplai
DTSTART;TZID=Europe/Madrid;VALUE=DATE-TIME:20100307T190000
DTEND;TZID=Europe/Madrid;VALUE=DATE-TIME:20100307T200000
DTSTAMP;VALUE=DATE-TIME:20260423T103325Z
UID:110ce2b7bf0a47e1e35aaad226dfb5c4
CREATED;VALUE=DATE-TIME:20100307T000000Z
LOCATION:L'Esplai de la gent gran. Carrer Vall, 18-24
ORGANIZER:l'Esplai de la gent gran
URL:https://www.canetdemar.cat/document.php?id=6204
END:VEVENT
END:VCALENDAR