BEGIN:VCALENDAR
VERSION:2.0
PRODID:-//Plone.org//NONSGML plone.app.event//EN
X-WR-TIMEZONE:Europe/Madrid
BEGIN:VEVENT
SUMMARY:Teatre d'abril: Nit de reis
DTSTART;TZID=Europe/Madrid;VALUE=DATE-TIME:20100428T183000
DTEND;TZID=Europe/Madrid;VALUE=DATE-TIME:20100428T193000
DTSTAMP;VALUE=DATE-TIME:20260423T051005Z
UID:efd6815e85749eeecd37c6fc4c9582b3
CREATED;VALUE=DATE-TIME:20100428T000000Z
LOCATION:Parada de bus de Comediants
COMMENT:Preu: 25 euros
URL:https://www.canetdemar.cat/document.php?id=6202
END:VEVENT
END:VCALENDAR