BEGIN:VCALENDAR
VERSION:2.0
PRODID:-//Plone.org//NONSGML plone.app.event//EN
X-WR-TIMEZONE:Europe/Madrid
BEGIN:VEVENT
SUMMARY:Audicions dels alumnes de l'Escola de Música
DTSTART;TZID=Europe/Madrid;VALUE=DATE-TIME:20031215T180000
DTEND;TZID=Europe/Madrid;VALUE=DATE-TIME:20031215T190000
DTSTAMP;VALUE=DATE-TIME:20260421T144517Z
UID:c78de71d3e761b2f4049f3f41d104c44
CREATED;VALUE=DATE-TIME:20031215T000000Z
URL:https://www.canetdemar.cat/document.php?id=620
END:VEVENT
END:VCALENDAR