BEGIN:VCALENDAR
VERSION:2.0
PRODID:-//Plone.org//NONSGML plone.app.event//EN
X-WR-TIMEZONE:Europe/Madrid
BEGIN:VEVENT
SUMMARY:Sessió explicativa: Atenció a les persones. Una ocupació de qualitat
DTSTART;TZID=Europe/Madrid;VALUE=DATE-TIME:20100223T190000
DTEND;TZID=Europe/Madrid;VALUE=DATE-TIME:20100223T200000
DTSTAMP;VALUE=DATE-TIME:20260423T202719Z
UID:4a99cb6b27b36ef35226d2426fce1ab7
CREATED;VALUE=DATE-TIME:20100223T000000Z
LOCATION:Aula Magna de l'Escola Universitària de Teixits de Punt
ORGANIZER:Ajuntament de Canet de Mar i Fundació Els Garrofers
URL:https://www.canetdemar.cat/document.php?id=6189
END:VEVENT
END:VCALENDAR