BEGIN:VCALENDAR
VERSION:2.0
PRODID:-//Plone.org//NONSGML plone.app.event//EN
X-WR-TIMEZONE:Europe/Madrid
BEGIN:VEVENT
SUMMARY:Club de Lectura
DTSTART;TZID=Europe/Madrid;VALUE=DATE-TIME:20100416T190000
DTEND;TZID=Europe/Madrid;VALUE=DATE-TIME:20100416T200000
DTSTAMP;VALUE=DATE-TIME:20260421T092239Z
UID:79c7cae6243fff4856f36d02b472d5e9
CREATED;VALUE=DATE-TIME:20100416T000000Z
CATEGORIES:Literatura
LOCATION:Biblioteca P. Gual i Pujadas
ORGANIZER:Biblioteca P. Gual i Pujadas
URL:https://www.canetdemar.cat/document.php?id=6164
END:VEVENT
END:VCALENDAR