BEGIN:VCALENDAR
VERSION:2.0
PRODID:-//Plone.org//NONSGML plone.app.event//EN
X-WR-TIMEZONE:Europe/Madrid
BEGIN:VEVENT
SUMMARY:Concert de jazz
DTSTART;TZID=Europe/Madrid;VALUE=DATE-TIME:20031212T220000
DTEND;TZID=Europe/Madrid;VALUE=DATE-TIME:20031212T230000
DTSTAMP;VALUE=DATE-TIME:20260422T072015Z
UID:224b3a11c425ab649242a2c4ce275094
CREATED;VALUE=DATE-TIME:20031212T000000Z
URL:https://www.canetdemar.cat/document.php?id=616
END:VEVENT
END:VCALENDAR