BEGIN:VCALENDAR
VERSION:2.0
PRODID:-//Plone.org//NONSGML plone.app.event//EN
X-WR-TIMEZONE:Europe/Madrid
BEGIN:VEVENT
SUMMARY:Curs d'horticultura ecològica
DTSTART;TZID=Europe/Madrid;VALUE=DATE-TIME:20100302T100000
DTEND;TZID=Europe/Madrid;VALUE=DATE-TIME:20100302T110000
DTSTAMP;VALUE=DATE-TIME:20260426T032525Z
UID:24f54c917fe2673dae48ece391faeb3d
CREATED;VALUE=DATE-TIME:20100302T000000Z
CATEGORIES:Cursos
LOCATION:Hort ecològic de Vil·la Flora
ORGANIZER:Sàlvia
COMMENT:Preu: 20 &euro; mes/sòcies
Durada: A partir del 2 de març tots els dimarts i dijous de 10.00 a 12.00 hores
DESCRIPTION:Per aprendre a plantar, cultivar i collir les teves verdures
URL:https://www.canetdemar.cat/document.php?id=6158
END:VEVENT
END:VCALENDAR