BEGIN:VCALENDAR
VERSION:2.0
PRODID:-//Plone.org//NONSGML plone.app.event//EN
X-WR-TIMEZONE:Europe/Madrid
BEGIN:VEVENT
SUMMARY:Concerts d'homenatge a Jaume Dotras
DTSTART;TZID=Europe/Madrid;VALUE=DATE-TIME:20031129T180000
DTEND;TZID=Europe/Madrid;VALUE=DATE-TIME:20031129T190000
DTSTAMP;VALUE=DATE-TIME:20260423T031737Z
UID:d636ac8cb10e320fce0e85964364ff83
CREATED;VALUE=DATE-TIME:20031129T000000Z
URL:https://www.canetdemar.cat/document.php?id=614
END:VEVENT
END:VCALENDAR