BEGIN:VCALENDAR
VERSION:2.0
PRODID:-//Plone.org//NONSGML plone.app.event//EN
X-WR-TIMEZONE:Europe/Madrid
BEGIN:VEVENT
SUMMARY:3a Fira Mercat Modernista
DTSTART;TZID=Europe/Madrid;VALUE=DATE-TIME:20100919T000000
DTEND;TZID=Europe/Madrid;VALUE=DATE-TIME:20100919T010000
DTSTAMP;VALUE=DATE-TIME:20260423T085026Z
UID:e77f9fe7ed487620d5fa130769c1877b
CREATED;VALUE=DATE-TIME:20100919T000000Z
LOCATION:als carrers i les places de Canet de Mar
COMMENT:Durada: durant tot el cap de setmana
URL:https://www.canetdemar.cat/document.php?id=6138
END:VEVENT
END:VCALENDAR