BEGIN:VCALENDAR
VERSION:2.0
PRODID:-//Plone.org//NONSGML plone.app.event//EN
X-WR-TIMEZONE:Europe/Madrid
BEGIN:VEVENT
SUMMARY:Fira d'artesania
DTSTART;TZID=Europe/Madrid;VALUE=DATE-TIME:20100731T100000
DTEND;TZID=Europe/Madrid;VALUE=DATE-TIME:20100731T110000
DTSTAMP;VALUE=DATE-TIME:20260423T133547Z
UID:5e80695e156fec491c1f95da81d04c80
CREATED;VALUE=DATE-TIME:20100731T000000Z
LOCATION:plaça Universitat
ORGANIZER:Àrea de Promoció Econòmica
COMMENT:Durada: durant tot el cap de setmana
URL:https://www.canetdemar.cat/document.php?id=6131
END:VEVENT
END:VCALENDAR