BEGIN:VCALENDAR
VERSION:2.0
PRODID:-//Plone.org//NONSGML plone.app.event//EN
X-WR-TIMEZONE:Europe/Madrid
BEGIN:VEVENT
SUMMARY:L´enterro
DTSTART;TZID=Europe/Madrid;VALUE=DATE-TIME:20100217T194500
DTEND;TZID=Europe/Madrid;VALUE=DATE-TIME:20100217T204500
DTSTAMP;VALUE=DATE-TIME:20260425T205137Z
UID:c7ddc014b1d53502e4009b454252c8a6
CREATED;VALUE=DATE-TIME:20100217T000000Z
LOCATION:plaça Mercat
URL:https://www.canetdemar.cat/document.php?id=6086
END:VEVENT
END:VCALENDAR