BEGIN:VCALENDAR
VERSION:2.0
PRODID:-//Plone.org//NONSGML plone.app.event//EN
X-WR-TIMEZONE:Europe/Madrid
BEGIN:VEVENT
SUMMARY:Dijous gras
DTSTART;TZID=Europe/Madrid;VALUE=DATE-TIME:20100211T200000
DTEND;TZID=Europe/Madrid;VALUE=DATE-TIME:20100211T210000
DTSTAMP;VALUE=DATE-TIME:20260423T072037Z
UID:b5a264cc99f4e4cc7e1a84e0883309fa
CREATED;VALUE=DATE-TIME:20100211T000000Z
LOCATION:Envelat de Vil·la Flora
URL:https://www.canetdemar.cat/document.php?id=6081
END:VEVENT
END:VCALENDAR