BEGIN:VCALENDAR
VERSION:2.0
PRODID:-//Plone.org//NONSGML plone.app.event//EN
X-WR-TIMEZONE:Europe/Madrid
BEGIN:VEVENT
SUMMARY:Teatre: En alta mar
DTSTART;TZID=Europe/Madrid;VALUE=DATE-TIME:20100226T210000
DTEND;TZID=Europe/Madrid;VALUE=DATE-TIME:20100226T220000
DTSTAMP;VALUE=DATE-TIME:20260421T130508Z
UID:2f3a5bf1652113c90eca2ace864fc417
CREATED;VALUE=DATE-TIME:20100226T000000Z
LOCATION:Envelat de Vil·la Flora
ORGANIZER:La mina teatre
COMMENT:Preu: 5 euros
URL:https://www.canetdemar.cat/document.php?id=6079
END:VEVENT
END:VCALENDAR