BEGIN:VCALENDAR
VERSION:2.0
PRODID:-//Plone.org//NONSGML plone.app.event//EN
X-WR-TIMEZONE:Europe/Madrid
BEGIN:VEVENT
SUMMARY:Presentació del llibre: Pompeu Fabra a l'exili (1939-1948)
DTSTART;TZID=Europe/Madrid;VALUE=DATE-TIME:20100312T190000
DTEND;TZID=Europe/Madrid;VALUE=DATE-TIME:20100312T200000
DTSTAMP;VALUE=DATE-TIME:20260422T220624Z
UID:37c19cd8175f3e1c8d47b65665742896
CREATED;VALUE=DATE-TIME:20100312T000000Z
CATEGORIES:Literatura
LOCATION:Biblioteca P. Gual i Pujadas
ORGANIZER:Plataforma per la Llengua Canet de Mar
COMMENT:Preu: Gratuït
DESCRIPTION:Amb el seu autor, en Jordi Manent
URL:https://www.canetdemar.cat/document.php?id=6072
END:VEVENT
END:VCALENDAR