BEGIN:VCALENDAR
VERSION:2.0
PRODID:-//Plone.org//NONSGML plone.app.event//EN
X-WR-TIMEZONE:Europe/Madrid
BEGIN:VEVENT
SUMMARY:Torneig de la wii
DTSTART;TZID=Europe/Madrid;VALUE=DATE-TIME:20100123T183000
DTEND;TZID=Europe/Madrid;VALUE=DATE-TIME:20100123T193000
DTSTAMP;VALUE=DATE-TIME:20260423T133402Z
UID:bc6196f7d4cc6061c79570abba863ded
CREATED;VALUE=DATE-TIME:20100123T000000Z
LOCATION:Masoveria de Vil·la Flora
ORGANIZER:Àrea de Joventut
URL:https://www.canetdemar.cat/document.php?id=6066
END:VEVENT
END:VCALENDAR