BEGIN:VCALENDAR
VERSION:2.0
PRODID:-//Plone.org//NONSGML plone.app.event//EN
X-WR-TIMEZONE:Europe/Madrid
BEGIN:VEVENT
SUMMARY:Tallers de Percussió
DTSTART;TZID=Europe/Madrid;VALUE=DATE-TIME:20100605T103000
DTEND;TZID=Europe/Madrid;VALUE=DATE-TIME:20100605T113000
DTSTAMP;VALUE=DATE-TIME:20260423T053630Z
UID:2a410bdb85a7675cfaf2a1ed1991cf94
CREATED;VALUE=DATE-TIME:20100605T000000Z
LOCATION:Plaça Colomer
ORGANIZER:Associació Cultural Plataforma Odèon - ACPO
COMMENT:Preu: 2&euro; (inscripció anticipada) / 3&euro; (el mateix dia)
DESCRIPTION:8è Festival Re-percussió per l'Odèon a Canet de Mar
URL:https://www.canetdemar.cat/document.php?id=6061
END:VEVENT
END:VCALENDAR