BEGIN:VCALENDAR
VERSION:2.0
PRODID:-//Plone.org//NONSGML plone.app.event//EN
X-WR-TIMEZONE:Europe/Madrid
BEGIN:VEVENT
SUMMARY:Teatre: Dona i cadira
DTSTART;TZID=Europe/Madrid;VALUE=DATE-TIME:20100131T180000
DTEND;TZID=Europe/Madrid;VALUE=DATE-TIME:20100131T190000
DTSTAMP;VALUE=DATE-TIME:20260424T053613Z
UID:11eff503746ee24eb12fcbcc535c0e42
CREATED;VALUE=DATE-TIME:20100131T000000Z
LOCATION:Centre Parroquial
DESCRIPTION:XXXVIè concurs de teatre aficionat. Premi Pedracastell
URL:https://www.canetdemar.cat/document.php?id=6043
END:VEVENT
END:VCALENDAR