BEGIN:VCALENDAR
VERSION:2.0
PRODID:-//Plone.org//NONSGML plone.app.event//EN
X-WR-TIMEZONE:Europe/Madrid
BEGIN:VEVENT
SUMMARY:Exposició: "Pintures x creure"
DTSTART;TZID=Europe/Madrid;VALUE=DATE-TIME:20031120T000000
DTEND;TZID=Europe/Madrid;VALUE=DATE-TIME:20031120T010000
DTSTAMP;VALUE=DATE-TIME:20260425T003153Z
UID:04f7710fea6bd01f23ded37e2317afde
CREATED;VALUE=DATE-TIME:20031120T000000Z
URL:https://www.canetdemar.cat/document.php?id=601
END:VEVENT
END:VCALENDAR