BEGIN:VCALENDAR
VERSION:2.0
PRODID:-//Plone.org//NONSGML plone.app.event//EN
X-WR-TIMEZONE:Europe/Madrid
BEGIN:VEVENT
SUMMARY:Conferència sobre reflexologia infantil
DTSTART;TZID=Europe/Madrid;VALUE=DATE-TIME:20100128T190000
DTEND;TZID=Europe/Madrid;VALUE=DATE-TIME:20100128T200000
DTSTAMP;VALUE=DATE-TIME:20260423T065004Z
UID:0b40435920427a539233dbf56830f928
CREATED;VALUE=DATE-TIME:20100128T000000Z
CATEGORIES:Conferència
LOCATION:Casa museu Lluís Domènech i Montaner
ORGANIZER:Sàlvia
COMMENT:Preu: Gratuït
DESCRIPTION:a càrrec de Maria Solsona
URL:https://www.canetdemar.cat/document.php?id=6001
END:VEVENT
END:VCALENDAR