BEGIN:VCALENDAR
VERSION:2.0
PRODID:-//Plone.org//NONSGML plone.app.event//EN
X-WR-TIMEZONE:Europe/Madrid
BEGIN:VEVENT
SUMMARY:Contes africans
DTSTART;TZID=Europe/Madrid;VALUE=DATE-TIME:20031107T180000
DTEND;TZID=Europe/Madrid;VALUE=DATE-TIME:20031107T190000
DTSTAMP;VALUE=DATE-TIME:20260425T210736Z
UID:65489e771e029ef09a5eef6155bf6677
CREATED;VALUE=DATE-TIME:20031107T000000Z
URL:https://www.canetdemar.cat/document.php?id=597
END:VEVENT
END:VCALENDAR