BEGIN:VCALENDAR
VERSION:2.0
PRODID:-//Plone.org//NONSGML plone.app.event//EN
X-WR-TIMEZONE:Europe/Madrid
BEGIN:VEVENT
SUMMARY:Mercat d'hivern d'Intercanvi, venda de Segona mà i Col·leccionisme i Trobada d'intercanvi de plaques de cava
DTSTART;TZID=Europe/Madrid;VALUE=DATE-TIME:20100124T100000
DTEND;TZID=Europe/Madrid;VALUE=DATE-TIME:20100124T110000
DTSTAMP;VALUE=DATE-TIME:20260421T113205Z
UID:1c73a0f47761f14da28c2a8aa35c7088
CREATED;VALUE=DATE-TIME:20100124T000000Z
LOCATION:riera Sant Domènec
ORGANIZER:Àrees de Medi Ambient i Promoció Econòmica
COMMENT:Durada: 10.00 a 14.00 hores
URL:https://www.canetdemar.cat/document.php?id=5966
END:VEVENT
END:VCALENDAR