BEGIN:VCALENDAR
VERSION:2.0
PRODID:-//Plone.org//NONSGML plone.app.event//EN
X-WR-TIMEZONE:Europe/Madrid
BEGIN:VEVENT
SUMMARY:Parc infantil i Tallers de Nadal
DTSTART;TZID=Europe/Madrid;VALUE=DATE-TIME:20091228T110000
DTEND;TZID=Europe/Madrid;VALUE=DATE-TIME:20091228T120000
DTSTAMP;VALUE=DATE-TIME:20260423T172127Z
UID:24da1fbbc14bd439db29d9d5530b11b4
CREATED;VALUE=DATE-TIME:20091228T000000Z
LOCATION:Envelat de Vil·la Flora
ORGANIZER:Àrea de Festes, Cultura i de Seguretat Ciutadana
COMMENT:Preu: 1 euro
Durada: del 28 al 30 de desembre
URL:https://www.canetdemar.cat/document.php?id=5914
END:VEVENT
END:VCALENDAR