BEGIN:VCALENDAR
VERSION:2.0
PRODID:-//Plone.org//NONSGML plone.app.event//EN
X-WR-TIMEZONE:Europe/Madrid
BEGIN:VEVENT
SUMMARY:Arribada del Missatger Reial
DTSTART;TZID=Europe/Madrid;VALUE=DATE-TIME:20091227T110000
DTEND;TZID=Europe/Madrid;VALUE=DATE-TIME:20091227T120000
DTSTAMP;VALUE=DATE-TIME:20260424T023717Z
UID:d0a9e9751941ea832fc37cd70f3ff9bf
CREATED;VALUE=DATE-TIME:20091227T000000Z
LOCATION:plaça 11 de Setembre
URL:https://www.canetdemar.cat/document.php?id=5911
END:VEVENT
END:VCALENDAR